BEGIN:VCALENDAR
VERSION:2.0
PRODID:-//ChamberMaster//Event Calendar 2.0//EN
METHOD:PUBLISH
X-PUBLISHED-TTL:P3D
REFRESH-INTERVAL:P3D
CALSCALE:GREGORIAN
BEGIN:VEVENT
DTSTART:20260513T180000Z
DTEND:20260513T183000Z
X-MICROSOFT-CDO-ALLDAYEVENT:FALSE
SUMMARY:Gaffney's Ribbon Cutting
DESCRIPTION:Join the Saratoga County Chamber of Commerce in celebrating the grand re-opening of Gaffney's! Gaffney's is a vibrant and lively spot known for its multiple areas to hang out\, including a spacious patio. The bar features a great playlist and friendly bouncers\, while the restaurant offers a festive atmosphere with great live music.
X-ALT-DESC;FMTTYPE=text/html:Join the Saratoga County Chamber of Commerce in celebrating the grand re-opening of Gaffney&#39\;s! Gaffney&#39\;s is a vibrant and lively spot known for its multiple areas to hang out\, including a spacious patio. The bar features a great playlist and friendly bouncers\, while the restaurant offers a festive atmosphere with great live music.<br />\n&nbsp\;
LOCATION:Gaffney's 16 Caroline Street Saratoga Springs\, NY 12866
UID:e.2254.42313
SEQUENCE:3
DTSTAMP:20260420T210338Z
URL:http://foundation.saratoga.org/events/details/gaffney-s-ribbon-cutting-42313
END:VEVENT

END:VCALENDAR
